Workbook

Sheet Eventos
A1: Data | B1: Início | C1: Término | D1: Cliente | E1: Telefone (WhatsApp) | F1: Local | G1: Serviço | H1: Valor do serviço | I1: Deslocamento | J1: Valor total | K1: Sinal pago | L1: Data do sinal | M1: Adiantamentos pagos | N1: Falta receber | O1: Status | P1: Contrato assinado? | Q1: Observações
A2: 46340 | B2: 0.66666667 | C2: 0.97916667 | D2: Ana Paula (exemplo) | E2: (21) 99999-0001 | F2: Espaço Jardins, Rio de Janeiro | G2: Casamento | H2: 3000 | I2: 150 | J2: =IF(AND(H2="",I2=""),"",H2+I2) | K2: 900 | L2: 46285 | M2: 900 | N2: =IF(J2="","",J2-K2-M2) | O2: Agendado | P2: Sim | Q2: Apague estas 3 linhas de exemplo
A3: 46341 | B3: 0.83333333 | C3: 0.083333333 | D3: Júlia (exemplo) | E3: (21) 99999-0002 | F3: Salão Primavera, Niterói | G3: 15 anos | H3: 2200 | I3: 0 | J3: =IF(AND(H3="",I3=""),"",H3+I3) | K3: 1100 | L3: 46297 | M3: 1100 | N3: =IF(J3="","",J3-K3-M3) | O3: Agendado | P3: Sim
A4: 46347 | B4: 0.79166667 | C4: 0.95833333 | D4: Marcos (exemplo) | E4: (21) 99999-0003 | F4: Casa do cliente, Rio de Janeiro | G4: Aniversário | H4: 1400 | I4: 80 | J4: =IF(AND(H4="",I4=""),"",H4+I4) | K4: 400 | L4: 46305 | M4: 0 | N4: =IF(J4="","",J4-K4-M4) | O4: Agendado | P4: Não
J5: =IF(AND(H5="",I5=""),"",H5+I5) | N5: =IF(J5="","",J5-K5-M5)
J6: =IF(AND(H6="",I6=""),"",H6+I6) | N6: =IF(J6="","",J6-K6-M6)
J7: =IF(AND(H7="",I7=""),"",H7+I7) | N7: =IF(J7="","",J7-K7-M7)
J8: =IF(AND(H8="",I8=""),"",H8+I8) | N8: =IF(J8="","",J8-K8-M8)
J9: =IF(AND(H9="",I9=""),"",H9+I9) | N9: =IF(J9="","",J9-K9-M9)
J10: =IF(AND(H10="",I10=""),"",H10+I10) | N10: =IF(J10="","",J10-K10-M10)
J11: =IF(AND(H11="",I11=""),"",H11+I11) | N11: =IF(J11="","",J11-K11-M11)
J12: =IF(AND(H12="",I12=""),"",H12+I12) | N12: =IF(J12="","",J12-K12-M12)
J13: =IF(AND(H13="",I13=""),"",H13+I13) | N13: =IF(J13="","",J13-K13-M13)
J14: =IF(AND(H14="",I14=""),"",H14+I14) | N14: =IF(J14="","",J14-K14-M14)
J15: =IF(AND(H15="",I15=""),"",H15+I15) | N15: =IF(J15="","",J15-K15-M15)
J16: =IF(AND(H16="",I16=""),"",H16+I16) | N16: =IF(J16="","",J16-K16-M16)
... J301: =IF(AND(H301="",I301=""),"",H301+I301) | N301: =IF(J301="","",J301-K301-M301)

Sheet Resumo do mês
A1: Resumo do seu mês
A3: Mês que você quer ver (digite uma data do mês) | B3: =TODAY() | D3: Ano | E3: =YEAR(TODAY())
D4: Mês | E4: Eventos | F4: Valor total | G4: Falta receber
A5: Eventos no mês | B5: =COUNTIFS(Eventos!$A$2:$A$301,">="&DATE(YEAR($B$3),MONTH($B$3),1),Eventos!$A$2:$A$301,"<"&DATE(YEAR($B$3),MONTH($B$3)+1,1),Eventos!$O$2:$O$301,"<>Cancelado") | D5: Janeiro | E5: =COUNTIFS(Eventos!$A$2:$A$301,">="&DATE($E$3,1,1),Eventos!$A$2:$A$301,"<"&DATE($E$3,2,1),Eventos!$O$2:$O$301,"<>Cancelado") | F5: =SUMIFS(Eventos!$J$2:$J$301,Eventos!$A$2:$A$301,">="&DATE($E$3,1,1),Eventos!$A$2:$A$301,"<"&DATE($E$3,2,1),Eventos!$O$2:$O$301,"<>Cancelado") | G5: =SUMIFS(Eventos!$N$2:$N$301,Eventos!$A$2:$A$301,">="&DATE($E$3,1,1),Eventos!$A$2:$A$301,"<"&DATE($E$3,2,1),Eventos!$O$2:$O$301,"<>Cancelado")
A6: Valor total dos eventos do mês | B6: =SUMIFS(Eventos!$J$2:$J$301,Eventos!$A$2:$A$301,">="&DATE(YEAR($B$3),MONTH($B$3),1),Eventos!$A$2:$A$301,"<"&DATE(YEAR($B$3),MONTH($B$3)+1,1),Eventos!$O$2:$O$301,"<>Cancelado") | D6: Fevereiro | E6: =COUNTIFS(Eventos!$A$2:$A$301,">="&DATE($E$3,2,1),Eventos!$A$2:$A$301,"<"&DATE($E$3,3,1),Eventos!$O$2:$O$301,"<>Cancelado") | F6: =SUMIFS(Eventos!$J$2:$J$301,Eventos!$A$2:$A$301,">="&DATE($E$3,2,1),Eventos!$A$2:$A$301,"<"&DATE($E$3,3,1),Eventos!$O$2:$O$301,"<>Cancelado") | G6: =SUMIFS(Eventos!$N$2:$N$301,Eventos!$A$2:$A$301,">="&DATE($E$3,2,1),Eventos!$A$2:$A$301,"<"&DATE($E$3,3,1),Eventos!$O$2:$O$301,"<>Cancelado")
A7: Já recebido (sinal e adiantamentos) | B7: =SUMIFS(Eventos!$K$2:$K$301,Eventos!$A$2:$A$301,">="&DATE(YEAR($B$3),MONTH($B$3),1),Eventos!$A$2:$A$301,"<"&DATE(YEAR($B$3),MONTH($B$3)+1,1),Eventos!$O$2:$O$301,"<>Cancelado")+SUMIFS(Eventos!$M$2:$M$301,Eventos!$A$2:$A$301,">="&DATE(YEAR($B$3),MONTH($B$3),1),Eventos!$A$2:$A$301,"<"&DATE(YEAR($B$3),MONTH($B$3)+1,1),Eventos!$O$2:$O$301,"<>Cancelado") | D7: Março | E7: =COUNTIFS(Eventos!$A$2:$A$301,">="&DATE($E$3,3,1),Eventos!$A$2:$A$301,"<"&DATE($E$3,4,1),Eventos!$O$2:$O$301,"<>Cancelado") | F7: =SUMIFS(Eventos!$J$2:$J$301,Eventos!$A$2:$A$301,">="&DATE($E$3,3,1),Eventos!$A$2:$A$301,"<"&DATE($E$3,4,1),Eventos!$O$2:$O$301,"<>Cancelado") | G7: =SUMIFS(Eventos!$N$2:$N$301,Eventos!$A$2:$A$301,">="&DATE($E$3,3,1),Eventos!$A$2:$A$301,"<"&DATE($E$3,4,1),Eventos!$O$2:$O$301,"<>Cancelado")
A8: Falta receber dos eventos do mês | B8: =SUMIFS(Eventos!$N$2:$N$301,Eventos!$A$2:$A$301,">="&DATE(YEAR($B$3),MONTH($B$3),1),Eventos!$A$2:$A$301,"<"&DATE(YEAR($B$3),MONTH($B$3)+1,1),Eventos!$O$2:$O$301,"<>Cancelado") | D8: Abril | E8: =COUNTIFS(Eventos!$A$2:$A$301,">="&DATE($E$3,4,1),Eventos!$A$2:$A$301,"<"&DATE($E$3,5,1),Eventos!$O$2:$O$301,"<>Cancelado") | F8: =SUMIFS(Eventos!$J$2:$J$301,Eventos!$A$2:$A$301,">="&DATE($E$3,4,1),Eventos!$A$2:$A$301,"<"&DATE($E$3,5,1),Eventos!$O$2:$O$301,"<>Cancelado") | G8: =SUMIFS(Eventos!$N$2:$N$301,Eventos!$A$2:$A$301,">="&DATE($E$3,4,1),Eventos!$A$2:$A$301,"<"&DATE($E$3,5,1),Eventos!$O$2:$O$301,"<>Cancelado")
D9: Maio | E9: =COUNTIFS(Eventos!$A$2:$A$301,">="&DATE($E$3,5,1),Eventos!$A$2:$A$301,"<"&DATE($E$3,6,1),Eventos!$O$2:$O$301,"<>Cancelado") | F9: =SUMIFS(Eventos!$J$2:$J$301,Eventos!$A$2:$A$301,">="&DATE($E$3,5,1),Eventos!$A$2:$A$301,"<"&DATE($E$3,6,1),Eventos!$O$2:$O$301,"<>Cancelado") | G9: =SUMIFS(Eventos!$N$2:$N$301,Eventos!$A$2:$A$301,">="&DATE($E$3,5,1),Eventos!$A$2:$A$301,"<"&DATE($E$3,6,1),Eventos!$O$2:$O$301,"<>Cancelado")
A10: Falta receber de todos os eventos que ainda vão acontecer | B10: =SUMIFS(Eventos!$N$2:$N$301,Eventos!$A$2:$A$301,">="&TODAY(),Eventos!$O$2:$O$301,"<>Cancelado") | D10: Junho | E10: =COUNTIFS(Eventos!$A$2:$A$301,">="&DATE($E$3,6,1),Eventos!$A$2:$A$301,"<"&DATE($E$3,7,1),Eventos!$O$2:$O$301,"<>Cancelado") | F10: =SUMIFS(Eventos!$J$2:$J$301,Eventos!$A$2:$A$301,">="&DATE($E$3,6,1),Eventos!$A$2:$A$301,"<"&DATE($E$3,7,1),Eventos!$O$2:$O$301,"<>Cancelado") | G10: =SUMIFS(Eventos!$N$2:$N$301,Eventos!$A$2:$A$301,">="&DATE($E$3,6,1),Eventos!$A$2:$A$301,"<"&DATE($E$3,7,1),Eventos!$O$2:$O$301,"<>Cancelado")
D11: Julho | E11: =COUNTIFS(Eventos!$A$2:$A$301,">="&DATE($E$3,7,1),Eventos!$A$2:$A$301,"<"&DATE($E$3,8,1),Eventos!$O$2:$O$301,"<>Cancelado") | F11: =SUMIFS(Eventos!$J$2:$J$301,Eventos!$A$2:$A$301,">="&DATE($E$3,7,1),Eventos!$A$2:$A$301,"<"&DATE($E$3,8,1),Eventos!$O$2:$O$301,"<>Cancelado") | G11: =SUMIFS(Eventos!$N$2:$N$301,Eventos!$A$2:$A$301,">="&DATE($E$3,7,1),Eventos!$A$2:$A$301,"<"&DATE($E$3,8,1),Eventos!$O$2:$O$301,"<>Cancelado")
D12: Agosto | E12: =COUNTIFS(Eventos!$A$2:$A$301,">="&DATE($E$3,8,1),Eventos!$A$2:$A$301,"<"&DATE($E$3,9,1),Eventos!$O$2:$O$301,"<>Cancelado") | F12: =SUMIFS(Eventos!$J$2:$J$301,Eventos!$A$2:$A$301,">="&DATE($E$3,8,1),Eventos!$A$2:$A$301,"<"&DATE($E$3,9,1),Eventos!$O$2:$O$301,"<>Cancelado") | G12: =SUMIFS(Eventos!$N$2:$N$301,Eventos!$A$2:$A$301,">="&DATE($E$3,8,1),Eventos!$A$2:$A$301,"<"&DATE($E$3,9,1),Eventos!$O$2:$O$301,"<>Cancelado")
D13: Setembro | E13: =COUNTIFS(Eventos!$A$2:$A$301,">="&DATE($E$3,9,1),Eventos!$A$2:$A$301,"<"&DATE($E$3,10,1),Eventos!$O$2:$O$301,"<>Cancelado") | F13: =SUMIFS(Eventos!$J$2:$J$301,Eventos!$A$2:$A$301,">="&DATE($E$3,9,1),Eventos!$A$2:$A$301,"<"&DATE($E$3,10,1),Eventos!$O$2:$O$301,"<>Cancelado") | G13: =SUMIFS(Eventos!$N$2:$N$301,Eventos!$A$2:$A$301,">="&DATE($E$3,9,1),Eventos!$A$2:$A$301,"<"&DATE($E$3,10,1),Eventos!$O$2:$O$301,"<>Cancelado")
D14: Outubro | E14: =COUNTIFS(Eventos!$A$2:$A$301,">="&DATE($E$3,10,1),Eventos!$A$2:$A$301,"<"&DATE($E$3,11,1),Eventos!$O$2:$O$301,"<>Cancelado") | F14: =SUMIFS(Eventos!$J$2:$J$301,Eventos!$A$2:$A$301,">="&DATE($E$3,10,1),Eventos!$A$2:$A$301,"<"&DATE($E$3,11,1),Eventos!$O$2:$O$301,"<>Cancelado") | G14: =SUMIFS(Eventos!$N$2:$N$301,Eventos!$A$2:$A$301,">="&DATE($E$3,10,1),Eventos!$A$2:$A$301,"<"&DATE($E$3,11,1),Eventos!$O$2:$O$301,"<>Cancelado")
D15: Novembro | E15: =COUNTIFS(Eventos!$A$2:$A$301,">="&DATE($E$3,11,1),Eventos!$A$2:$A$301,"<"&DATE($E$3,12,1),Eventos!$O$2:$O$301,"<>Cancelado") | F15: =SUMIFS(Eventos!$J$2:$J$301,Eventos!$A$2:$A$301,">="&DATE($E$3,11,1),Eventos!$A$2:$A$301,"<"&DATE($E$3,12,1),Eventos!$O$2:$O$301,"<>Cancelado") | G15: =SUMIFS(Eventos!$N$2:$N$301,Eventos!$A$2:$A$301,">="&DATE($E$3,11,1),Eventos!$A$2:$A$301,"<"&DATE($E$3,12,1),Eventos!$O$2:$O$301,"<>Cancelado")
D16: Dezembro | E16: =COUNTIFS(Eventos!$A$2:$A$301,">="&DATE($E$3,12,1),Eventos!$A$2:$A$301,"<"&DATE($E$3,13,1),Eventos!$O$2:$O$301,"<>Cancelado") | F16: =SUMIFS(Eventos!$J$2:$J$301,Eventos!$A$2:$A$301,">="&DATE($E$3,12,1),Eventos!$A$2:$A$301,"<"&DATE($E$3,13,1),Eventos!$O$2:$O$301,"<>Cancelado") | G16: =SUMIFS(Eventos!$N$2:$N$301,Eventos!$A$2:$A$301,">="&DATE($E$3,12,1),Eventos!$A$2:$A$301,"<"&DATE($E$3,13,1),Eventos!$O$2:$O$301,"<>Cancelado")
D17: Total do ano | E17: =SUM(E5:E16) | F17: =SUM(F5:F16) | G17: =SUM(G5:G16)

Sheet Como usar
A1: Como usar esta planilha
A3: 1. Na aba Eventos, apague as 3 linhas de exemplo e anote cada evento no momento em que ele fechar.
A4: 2. Preencha só as células em branco. As colunas Valor total e Falta receber se calculam sozinhas.
A5: 3. Quando o cliente pagar, escreva o sinal na coluna Sinal pago e cada parcela seguinte em Adiantamentos pagos. Some os valores se houver mais de um adiantamento.
A6: 4. Mude o Status para Concluído quando o evento acontecer, ou Cancelado se ele não for mais acontecer.
A7: 5. Na aba Resumo do mês, veja quantos eventos você tem, quanto já recebeu e quanto ainda falta receber. Digite uma data de outro mês na célula roxa para trocar o mês.
A9: Dicas
A10: Cor laranja na coluna Falta receber: o cliente ainda deve. Verde: evento quitado.
A11: Eventos que passam da meia-noite: anote o início e o término como 20:00 e 02:00. A data é a do dia em que o evento começa.
A12: Funciona no Excel e no Google Planilhas. No Google Planilhas, vá em Arquivo, Importar, Fazer upload.
A14: Quando a planilha ficar pequena
A15: Para saber quanto falta receber de cada cliente sem fazer conta, e abrir tudo pelo celular, conheça a agentto: Criar conta grátis em https://agentto.com.br/?utm_source=planilha&utm_medium=modelo
